BEGIN:VCALENDAR
VERSION:2.0
PRODID:-//NOVA SBE Library - ECPv6.2.9//NONSGML v1.0//EN
CALSCALE:GREGORIAN
METHOD:PUBLISH
X-ORIGINAL-URL:https://novasbe-library.azurewebsites.net
X-WR-CALDESC:Events for NOVA SBE Library
REFRESH-INTERVAL;VALUE=DURATION:PT1H
X-Robots-Tag:noindex
X-PUBLISHED-TTL:PT1H
BEGIN:VTIMEZONE
TZID:UTC
BEGIN:STANDARD
TZOFFSETFROM:+0000
TZOFFSETTO:+0000
TZNAME:UTC
DTSTART:20250101T000000
END:STANDARD
END:VTIMEZONE
BEGIN:VEVENT
DTSTART;TZID=UTC:20250227T180000
DTEND;TZID=UTC:20250227T190000
DTSTAMP:20260424T153229
CREATED:20250214T100632Z
LAST-MODIFIED:20250217T142301Z
UID:12894-1740679200-1740682800@novasbe-library.azurewebsites.net
SUMMARY:Webinar Euromonitor
DESCRIPTION:
URL:https://novasbe-library.azurewebsites.net/event/euromonitor-webinar/
LOCATION:Online
END:VEVENT
END:VCALENDAR