BEGIN:VCALENDAR
VERSION:2.0
PRODID:-//NOVA SBE Library - ECPv6.2.9//NONSGML v1.0//EN
CALSCALE:GREGORIAN
METHOD:PUBLISH
X-ORIGINAL-URL:https://novasbe-library.azurewebsites.net
X-WR-CALDESC:Events for NOVA SBE Library
REFRESH-INTERVAL;VALUE=DURATION:PT1H
X-Robots-Tag:noindex
X-PUBLISHED-TTL:PT1H
BEGIN:VTIMEZONE
TZID:UTC
BEGIN:STANDARD
TZOFFSETFROM:+0000
TZOFFSETTO:+0000
TZNAME:UTC
DTSTART:20250101T000000
END:STANDARD
END:VTIMEZONE
BEGIN:VEVENT
DTSTART;TZID=UTC:20250306T163000
DTEND;TZID=UTC:20250306T173000
DTSTAMP:20260424T153212
CREATED:20250303T105801Z
LAST-MODIFIED:20250303T105801Z
UID:12910-1741278600-1741282200@novasbe-library.azurewebsites.net
SUMMARY:Bloomberg PORT Session
DESCRIPTION:
URL:https://novasbe-library.azurewebsites.net/event/bloomberg-port-session/
LOCATION:Online
END:VEVENT
END:VCALENDAR