BEGIN:VCALENDAR
VERSION:2.0
PRODID:-//NOVA SBE Library - ECPv6.2.9//NONSGML v1.0//EN
CALSCALE:GREGORIAN
METHOD:PUBLISH
X-ORIGINAL-URL:https://novasbe-library.azurewebsites.net
X-WR-CALDESC:Events for NOVA SBE Library
REFRESH-INTERVAL;VALUE=DURATION:PT1H
X-Robots-Tag:noindex
X-PUBLISHED-TTL:PT1H
BEGIN:VTIMEZONE
TZID:UTC
BEGIN:STANDARD
TZOFFSETFROM:+0000
TZOFFSETTO:+0000
TZNAME:UTC
DTSTART:20250101T000000
END:STANDARD
END:VTIMEZONE
BEGIN:VEVENT
DTSTART;TZID=UTC:20250505T090000
DTEND;TZID=UTC:20250516T170000
DTSTAMP:20260424T052921
CREATED:20250505T101459Z
LAST-MODIFIED:20250505T102240Z
UID:12984-1746435600-1747414800@novasbe-library.azurewebsites.net
SUMMARY:Citations' lab
DESCRIPTION:
URL:https://novasbe-library.azurewebsites.net/event/citations-lab-4/
LOCATION:Online
CATEGORIES:Training
END:VEVENT
BEGIN:VEVENT
DTSTART;TZID=UTC:20250507T110000
DTEND;TZID=UTC:20250507T120000
DTSTAMP:20260424T052921
CREATED:20250505T154244Z
LAST-MODIFIED:20250505T154244Z
UID:12989-1746615600-1746619200@novasbe-library.azurewebsites.net
SUMMARY:Portugal in 60 minutes
DESCRIPTION:Embark on a trip about the role of Portugal in world history! Despite its small territory\, the country has had an outsized impact on it. \n 
URL:https://novasbe-library.azurewebsites.net/event/portugal-in-60-minutes/
LOCATION:Teresa e Alexandre Soares dos Santos Library\, Campus de Carcavelos\, Rua da Holanda 1\, Carcavelos\, 2775-405\, Portugal
END:VEVENT
END:VCALENDAR