BEGIN:VCALENDAR
VERSION:2.0
PRODID:-//NOVA SBE Library - ECPv6.2.9//NONSGML v1.0//EN
CALSCALE:GREGORIAN
METHOD:PUBLISH
X-ORIGINAL-URL:https://novasbe-library.azurewebsites.net
X-WR-CALDESC:Events for NOVA SBE Library
REFRESH-INTERVAL;VALUE=DURATION:PT1H
X-Robots-Tag:noindex
X-PUBLISHED-TTL:PT1H
BEGIN:VTIMEZONE
TZID:UTC
BEGIN:STANDARD
TZOFFSETFROM:+0000
TZOFFSETTO:+0000
TZNAME:UTC
DTSTART:20230101T000000
END:STANDARD
END:VTIMEZONE
BEGIN:VEVENT
DTSTART;TZID=UTC:20231129T130000
DTEND;TZID=UTC:20231129T140000
DTSTAMP:20260423T204820
CREATED:20231124T144833Z
LAST-MODIFIED:20231124T150154Z
UID:11785-1701262800-1701266400@novasbe-library.azurewebsites.net
SUMMARY:Library dialogues: Queer in your career?
DESCRIPTION:
URL:https://novasbe-library.azurewebsites.net/event/library-dialogues-queer-in-your-career/
LOCATION:Teresa e Alexandre Soares dos Santos Library\, Campus de Carcavelos\, Rua da Holanda 1\, Carcavelos\, 2775-405\, Portugal
CATEGORIES:Library dialogues
END:VEVENT
END:VCALENDAR