BEGIN:VCALENDAR
VERSION:2.0
PRODID:-//NOVA SBE Library - ECPv6.2.9//NONSGML v1.0//EN
CALSCALE:GREGORIAN
METHOD:PUBLISH
X-ORIGINAL-URL:https://novasbe-library.azurewebsites.net
X-WR-CALDESC:Events for NOVA SBE Library
REFRESH-INTERVAL;VALUE=DURATION:PT1H
X-Robots-Tag:noindex
X-PUBLISHED-TTL:PT1H
BEGIN:VTIMEZONE
TZID:UTC
BEGIN:STANDARD
TZOFFSETFROM:+0000
TZOFFSETTO:+0000
TZNAME:UTC
DTSTART:20240101T000000
END:STANDARD
END:VTIMEZONE
BEGIN:VEVENT
DTSTART;TZID=UTC:20240304T163000
DTEND;TZID=UTC:20240304T180000
DTSTAMP:20260419T133412
CREATED:20240220T225552Z
LAST-MODIFIED:20240220T225651Z
UID:12109-1709569800-1709575200@novasbe-library.azurewebsites.net
SUMMARY:Leadership for Impact Book Collection
DESCRIPTION:Nova SBE Leadership for Impact Knowledge Center is happy to launch its book selection\, specially curated and available at the Nova SBE Library.\nTo mark this milestone\, the center will launch its Book Corner on March 4\, with the presence of four different professors and with the Leadership for Impact Student Club participating in an insightful conversation and their selection of books to present and discuss. If you’re a student\, don’t miss this opportunity to engage with our faculty members and Nova SBE community. \nIf you’re already interested in our collection\, you can search at the library online by entering our tag: #leadership4impact \nAgenda \nWelcome!  – Joana Castro e Costa\, Executive Director Nova SBE Leadership for Impact Knowledge Center & Susana Lopes\, Head of Nova SBE Library \nRoundtable Session – Jenny Hoobler\, Academic Director Nova SBE Leadership for Impact Knowledge Center; Ricardo Zózimo\, Professor of Management and member Nova SBE Leadership for Impact Knowledge Center; Francisco Castro\, Leadership for Impact Student Club President (moderator); Other guests: TBC \nOpen Conversation with our Guests – Networking & Mingle among fellow book enthusiasts!
URL:https://novasbe-library.azurewebsites.net/event/leadership-for-impact-book-collection/
LOCATION:Teresa e Alexandre Soares dos Santos Library\, Campus de Carcavelos\, Rua da Holanda 1\, Carcavelos\, 2775-405\, Portugal
CATEGORIES:Roundtable
END:VEVENT
BEGIN:VEVENT
DTSTART;TZID=UTC:20240228T180000
DTEND;TZID=UTC:20240228T200000
DTSTAMP:20260419T133412
CREATED:20240220T223225Z
LAST-MODIFIED:20240220T223528Z
UID:12105-1709143200-1709150400@novasbe-library.azurewebsites.net
SUMMARY:Ways of (im) permanence
DESCRIPTION:In this roundtable\, the discussion will be about the trajectories of immigration and gentrification in the city of Lisbon\, and its implications on the life\, economy\, identity\, opportunities\, and creativity of local communities\, with a special focus on african migration. \nInvited for this roundtable will be researchers with a focus on migration\, the neighbourhoods of Talude and Quinta da Fonte and local representatives of AMRT\, to foster a discussion which will deepen the understanding about the city. \nParticipants: \n\nCátia Batista (NovaSBE) – PhD in Economics – Migration\nJorge Malheiros (IGOT-UL) – PhD in Human Geography\nAurio Sebastião (AMRT) – Master in Labour Sciences\nRolando Borges (AMRT) – Degree in Sociology\nOtávio Raposo (ISCTE-IUL) – PhD in Anthropology\nJoana Lajes (ISCE) – PhD in Urbanism\nModerators: mais uno +1
URL:https://novasbe-library.azurewebsites.net/event/ways-of-im-permanence/
LOCATION:Teresa e Alexandre Soares dos Santos Library\, Campus de Carcavelos\, Rua da Holanda 1\, Carcavelos\, 2775-405\, Portugal
CATEGORIES:Roundtable
ATTACH;FMTTYPE=image/png:/wp-content/uploads/2024/02/Screenshot-2024-02-20-223456.png
END:VEVENT
END:VCALENDAR