BEGIN:VCALENDAR
VERSION:2.0
PRODID:-//NOVA SBE Library - ECPv6.2.9//NONSGML v1.0//EN
CALSCALE:GREGORIAN
METHOD:PUBLISH
X-ORIGINAL-URL:https://novasbe-library.azurewebsites.net
X-WR-CALDESC:Events for NOVA SBE Library
REFRESH-INTERVAL;VALUE=DURATION:PT1H
X-Robots-Tag:noindex
X-PUBLISHED-TTL:PT1H
BEGIN:VTIMEZONE
TZID:UTC
BEGIN:STANDARD
TZOFFSETFROM:+0000
TZOFFSETTO:+0000
TZNAME:UTC
DTSTART:20210101T000000
END:STANDARD
END:VTIMEZONE
BEGIN:VEVENT
DTSTART;TZID=UTC:20211026T093000
DTEND;TZID=UTC:20211026T103000
DTSTAMP:20260423T143845
CREATED:20211024T183252Z
LAST-MODIFIED:20211024T183503Z
UID:9461-1635240600-1635244200@novasbe-library.azurewebsites.net
SUMMARY:O papel dos gabinetes de apoio à investigação na implementação da Ciência Aberta
DESCRIPTION:Organizado pela Plataforma de Interface à Ciência (PIC)\, “Vamos falar de Gestão de Ciência” junta gestores de ciência num ambiente informal de partilha de ideias\, dúvidas e estratégias. As sessões decorrem na última terça-feira de cada mês\, online via zoom\, e são abertas a todos os interessados\, tendo sempre um tópico de conversa pré-determinado pelo grupo no final da sessão anterior. \nNesta sessão de outubro traremos para o debate o papel dos gestores de ciência na implementação de estratégias e práticas institucionais de Ciência Aberta. Todos os gestores de ciência presentes poderão partilhar como as suas instituições se estão a organizar para dar seguimento a estas Políticas e pensarmos quais são as novas competências necessárias para os gestores de ciência que venham a trabalhar nesta área. \nO evento não requer inscrição. \nPúblico-alvo: Gestores de ciência de todo o país \nOrganização: Grupo de Trabalho Ciência Aberta NOVA FCSH e Plataforma de Interface à Ciência (PIC)
URL:https://novasbe-library.azurewebsites.net/event/o-papel-dos-gabinetes-de-apoio-a-investigacao-na-implementacao-da-ciencia-aberta/
LOCATION:Online
CATEGORIES:Open Access Week,Webinars
END:VEVENT
BEGIN:VEVENT
DTSTART;TZID=UTC:20211028T140000
DTEND;TZID=UTC:20211028T150000
DTSTAMP:20260423T143845
CREATED:20211024T184003Z
LAST-MODIFIED:20211024T184537Z
UID:9468-1635429600-1635433200@novasbe-library.azurewebsites.net
SUMMARY:Open Science in HORIZON Europe
DESCRIPTION:Open science is a policy priority for the European Commission and the standard approach to academic research under the new Framework Programme Horizon Europe\, as it improves the quality\, efficiency and responsiveness of research. \nWhen researchers share knowledge and data as early as possible in the research process with all relevant actors it helps diffuse the latest knowledge. And when partners from across academia\, industry\, public authorities and citizen groups are invited to participate in the research and innovation process\, creativity and trust in science increases. \nWhat novelties can we find in Horizon Europe regarding Open Science? What new practices evaluators will look for in their evaluation? What rules and obligations are set in the new model agreement? \nAlea López\, from the Open Science unit of the European Commission\, will discuss these and other issues\, particularly relevant to all researchers and research managers aiming to submit and manage projects under Horizon Europe. \nSpeaker: Alea López de San Román – Policy Officer\, Unit Open Science\, Directorate General for Research and Innovation\, European Commission \nTarget audience: Open to the R&I community (Researchers\, Research managers\, Librarians\, etc.) \nRegistration needed. \nOrganizers: NOVA FCSH working group on Open Science
URL:https://novasbe-library.azurewebsites.net/event/open-science-in-horizon-europe/
LOCATION:Online
CATEGORIES:Open Access Week,Webinars
ATTACH;FMTTYPE=image/png:/wp-content/uploads/2021/10/Pic-Semana-Inter-AcessoAberto2021-540x360-1.png
END:VEVENT
END:VCALENDAR