BEGIN:VCALENDAR
VERSION:2.0
PRODID:-//NOVA SBE Library - ECPv6.2.9//NONSGML v1.0//EN
CALSCALE:GREGORIAN
METHOD:PUBLISH
X-WR-CALNAME:NOVA SBE Library
X-ORIGINAL-URL:https://novasbe-library.azurewebsites.net
X-WR-CALDESC:Events for NOVA SBE Library
REFRESH-INTERVAL;VALUE=DURATION:PT1H
X-Robots-Tag:noindex
X-PUBLISHED-TTL:PT1H
BEGIN:VTIMEZONE
TZID:UTC
BEGIN:STANDARD
TZOFFSETFROM:+0000
TZOFFSETTO:+0000
TZNAME:UTC
DTSTART:20250101T000000
END:STANDARD
END:VTIMEZONE
BEGIN:VEVENT
DTSTART;TZID=UTC:20250226T133000
DTEND;TZID=UTC:20250226T143000
DTSTAMP:20260423T191431
CREATED:20250127T185239Z
LAST-MODIFIED:20250303T104913Z
UID:12860-1740576600-1740580200@novasbe-library.azurewebsites.net
SUMMARY:GlobalData: Global Hiring Activity - Signals & Trends - Q4 2024
DESCRIPTION:Join GlobalData’s team for a deep dive into global hiring trends derived from GlobalData’s Job Analytics platform. Identify and track the companies that are currently hiring! \n 
URL:https://novasbe-library.azurewebsites.net/event/globaldata-global-hiring-activity-signals-trends-q4-2024/
LOCATION:Online
CATEGORIES:Webinars
END:VEVENT
END:VCALENDAR