BEGIN:VCALENDAR
VERSION:2.0
PRODID:-//NOVA SBE Library - ECPv6.2.9//NONSGML v1.0//EN
CALSCALE:GREGORIAN
METHOD:PUBLISH
X-ORIGINAL-URL:https://novasbe-library.azurewebsites.net
X-WR-CALDESC:Events for NOVA SBE Library
REFRESH-INTERVAL;VALUE=DURATION:PT1H
X-Robots-Tag:noindex
X-PUBLISHED-TTL:PT1H
BEGIN:VTIMEZONE
TZID:UTC
BEGIN:STANDARD
TZOFFSETFROM:+0000
TZOFFSETTO:+0000
TZNAME:UTC
DTSTART:20220101T000000
END:STANDARD
TZID:Europe/Paris
BEGIN:DAYLIGHT
TZOFFSETFROM:+0100
TZOFFSETTO:+0200
TZNAME:CEST
DTSTART:20240331T010000
END:DAYLIGHT
BEGIN:STANDARD
TZOFFSETFROM:+0200
TZOFFSETTO:+0100
TZNAME:CET
DTSTART:20241027T010000
END:STANDARD
END:VTIMEZONE
BEGIN:VEVENT
DTSTART;TZID=UTC:20221021T103000
DTEND;TZID=UTC:20221021T120000
DTSTAMP:20260425T164057
CREATED:20221019T103156Z
LAST-MODIFIED:20221019T105107Z
UID:10672-1666348200-1666353600@novasbe-library.azurewebsites.net
SUMMARY:European collaborative cloud for cultural heritage
DESCRIPTION:Oradora: Natália Dias\, Ponto de contacto do Horizonte Europa\, Agência Nacional de Inovação \nSessão dedicada à European Collaborative Cloud for Cultural Heritage e às oportunidades de financiamento associadas à co-criação desta infraestrutura europeia\, aberta a toda a comunidade académica e não académica. \nA European Collaborative Cloud for Cultural Heritage irá constituir-se como uma plataforma digital de colaboração transdisciplinar\, inclusiva e em larga escala para os profissionais do património cultural. Esta infraestrutura europeia irá disponibilizar ferramentas de ponta para a digitalização de artefactos\, o estudo de obras de arte e a documentação de dados\, a fim de  melhorar os procedimentos de preservação\, conservação e restauro. Finalmente\, propõe novas perspectivas para os museus\, melhorando o acesso ao conteúdo cultural da Europa. \nTendo em vista a co-criação da infraestrutura European Collaborative Cloud for Cultural Heritage serão abertas chamadas para financiamento ao longo de 2023 e 2024\, no âmbito do Programa Horizonte Europa. \nLink para participação: https://videoconf-colibri.zoom.us/j/92228668414?pwd=ZWVIVUVYeGU3UGdJNTRoak1xZGdnZz09#success
URL:https://novasbe-library.azurewebsites.net/event/iniciativas-para-a-reforma-da-avaliacao-de-investigacao-apoiando-praticas-de-ciencia-aberta/
LOCATION:Online
CATEGORIES:Open Access Week,Webinars
END:VEVENT
BEGIN:VEVENT
DTSTART;TZID=UTC:20221024T140000
DTEND;TZID=UTC:20221024T150000
DTSTAMP:20260425T164057
CREATED:20221019T104544Z
LAST-MODIFIED:20221019T104544Z
UID:10676-1666620000-1666623600@novasbe-library.azurewebsites.net
SUMMARY:Iniciativas para a Reforma da Avaliação de Investigação apoiando práticas de Ciência Aberta
DESCRIPTION:Organizado pela Universidade do Minho\, esta sessão aberta à comunidade nacional marca o arranque da Open Access Week 2022\, refletindo sobre a situação atual do sistema de comunicação científica e apresentando as mais recentes iniciativas na reforma da Avaliação de Investigação que reconhecem práticas de Ciência Aberta. \nResumo do programa: \n\nProblematizar a avaliação de investigação focada unicamente em métricas\nApresentar a iniciativa Agreement on Reforming Research Assessment da European Universities Association e a Coalition for Advancing Research Assessment (COARA)\nDebater os desafios para a efetiva implementação destas reformas.\n\nInscrições: https://videoconf-colibri.zoom.us/meeting/register/tJYtc-iqqzguE9XF5ND94A6WhBwu7ME_902j \nNo registo utilize o email institucional ou profissional. \nEm caso de dúvidas contactar openaccess@usdb.uminho.pt \n  \n 
URL:https://novasbe-library.azurewebsites.net/event/iniciativas-para-a-reforma-da-avaliacao-de-investigacao-apoiando-praticas-de-ciencia-aberta-2/
LOCATION:Online
CATEGORIES:Open Access Week,Webinars
END:VEVENT
BEGIN:VEVENT
DTSTART;TZID=UTC:20221026T140000
DTEND;TZID=UTC:20221026T150000
DTSTAMP:20260425T164057
CREATED:20221019T112023Z
LAST-MODIFIED:20221019T112023Z
UID:10686-1666792800-1666796400@novasbe-library.azurewebsites.net
SUMMARY:How to publish in Open Access on Elsevier
DESCRIPTION:Webinar organized by Elsevier on the open access publishing process under the b-on agreement. \nThe purpose of the webinar is to clarify the authors/researchers about the article submission procedure and subsequent choice for open access publication under the current b-on agreement. \nLink: https://elsevier.zoom.us/j/98960928312?pwd=ZGk2MmNDVjdSTWQ3UFZ1R29LclNtZz09;
URL:https://novasbe-library.azurewebsites.net/event/how-to-publish-in-open-access-on-elsevier/
LOCATION:Online
CATEGORIES:Open Access Week,Webinars
END:VEVENT
BEGIN:VEVENT
DTSTART;TZID=UTC:20221027T093000
DTEND;TZID=UTC:20221027T103000
DTSTAMP:20260425T164057
CREATED:20221019T105920Z
LAST-MODIFIED:20221019T105920Z
UID:10683-1666863000-1666866600@novasbe-library.azurewebsites.net
SUMMARY:Ciência Aberta: Acesso\, colaboração e partilha
DESCRIPTION:Com o objetivo de sensibilizar e promover as práticas de ciência aberta junto da comunidade de investigadores\, gestores de ciência\, estudantes e do público em geral\, a FCT promove\, no âmbito das comemorações da semana internacional de ciência aberta\, um evento intitulado “Ciência Aberta: Acesso\, colaboração e partilha” \nA Ciência Aberta é a atividade científica realizada de modo aberto\, colaborativo e transparente\, facilitando a partilha e a comunicação dos processos e  resultados (dados\, publicações e outros). \nNesta sessão serão abordados serviços ao dispor da comunidade para promover a prática da ciência aberta em particular a b-on e os acordos transformativos (publicação em acesso aberto sem custos para os autores)\, a rede de repositórios científicos de acesso aberto e os serviços para a gestão de dados de investigação. \nA sessão é organizada pela FCCN\, unidade da FCT que tem a missão de assegurar tecnologia e meios para a investigação\, para a ciência e para o desenvolvimento de novo conhecimento
URL:https://novasbe-library.azurewebsites.net/event/ciencia-aberta-acesso-colaboracao-e-partilha/
LOCATION:Online
CATEGORIES:Open Access Week,Webinars
END:VEVENT
BEGIN:VEVENT
DTSTART;TZID=UTC:20221027T120000
DTEND;TZID=UTC:20221027T125000
DTSTAMP:20260425T164057
CREATED:20221019T105040Z
LAST-MODIFIED:20221019T105040Z
UID:10680-1666872000-1666875000@novasbe-library.azurewebsites.net
SUMMARY:Open for all - Open Science at the University of Edinburgh
DESCRIPTION:Orador: Ewan McAndrew\, Wikimedian in Residence na Universidade de Edimburgo \nDa sala de aula à investigação\, na Universidade de Edimburgo\, a ciência aberta é uma prática corrente. Desde 2016\, esta relação é alimentada em articulação com as ferramentas e plataformas Wikimedia (Wikipédia\, Wikimedia Commons\, Wikidata\, entre outras)\, todas elas abertas. Nesta sessão\, Ewan McAndrew partilhará alguns dos casos de estudo mais interessantes destra prática\, com tempo para perguntas. \nSessão em inglês \nLink para participação: https://videoconf-colibri.zoom.us/meeting/register/tJUpce2hpjkpG9z8-i_QMJm4sy3Yh5fo4426
URL:https://novasbe-library.azurewebsites.net/event/open-for-all-open-science-at-the-university-of-edinburgh/
LOCATION:Online
CATEGORIES:Open Access Week,Webinars
END:VEVENT
BEGIN:VEVENT
DTSTART;TZID=Europe/Paris:20241017T150000
DTEND;TZID=Europe/Paris:20241017T160000
DTSTAMP:20260425T164057
CREATED:20241007T182822Z
LAST-MODIFIED:20241008T100741Z
UID:12734-1729177200-1729180800@novasbe-library.azurewebsites.net
SUMMARY:Webinar Euromonitor on Sustainability
DESCRIPTION:Join Euromonitor for an exclusive webinar that explores how authentic sustainability brand claims can drive positive change for business\, people and planet alike. With a special focus on the FMCG sector\, particularly the food industry\, we’ll discover how forward-thinking companies are communicating their genuine sustainability efforts to create powerful brand narratives that resonate with consumers\, leading to mutually beneficial outcomes. \nWhat you’ll learn:\nIn this 30-minute session: \n\nExplore effective strategies for crafting and communicating credible sustainability claims and impact\, differentiating brands and influencing purchasing decisions.\nExamine how companies are messaging sustainability initiatives while addressing affordability concerns\, particularly as 40% of consumers cite price as a barrier during the cost-of-living crisis.\nAnalyse case studies of food and beverage businesses successfully communicating their sustainability commitments\, driving positive impact and business success.\nDiscover how consumers actively seeking to make a difference through their food choices create opportunities for brands to authentically align with these values.\n\nRegister today to enhance your sustainability efforts\, turning them into a strategic asset for your brand\, society\, and the environment. Don’t miss the opportunity to leverage authentic green claims and play a role in shaping a more sustainable and equitable future. \nAudience: researchers and faculty
URL:https://novasbe-library.azurewebsites.net/event/webinar-euromonitor-on-sustainability/
LOCATION:Online
CATEGORIES:Webinars
END:VEVENT
BEGIN:VEVENT
DTSTART;TZID=UTC:20250129T160000
DTEND;TZID=UTC:20250129T163000
DTSTAMP:20260425T164057
CREATED:20250127T184307Z
LAST-MODIFIED:20250127T184307Z
UID:12850-1738166400-1738168200@novasbe-library.azurewebsites.net
SUMMARY:GlobalData: UK Retail Update - Christmas Review
DESCRIPTION:Join GlobalData’s quarterly webinar for a 30-minute rundown of the current UK retail market\, including a look back at Christmas 2024. Discover who were the winners and losers and we discuss our retail sector forecasts for 2025 and beyond.
URL:https://novasbe-library.azurewebsites.net/event/globaldata-uk-retail-update-christmas-review/
LOCATION:Online
CATEGORIES:Webinars
ATTACH;FMTTYPE=image/png:/wp-content/uploads/2023/10/Globaldata.png
END:VEVENT
BEGIN:VEVENT
DTSTART;TZID=UTC:20250130T160000
DTEND;TZID=UTC:20250130T170000
DTSTAMP:20260425T164057
CREATED:20250127T184633Z
LAST-MODIFIED:20250127T184633Z
UID:12854-1738252800-1738256400@novasbe-library.azurewebsites.net
SUMMARY:GlobalData: Telco - Towards The Super App
DESCRIPTION:Super-apps provide access to a diverse array of services through a single application\, functioning as marketplaces via a unified platform. They present substantial opportunities for technology and telecommunication companies to offer services from their digital portfolios and engage with customers on a deeper level. Join GlobalData’s Tech analysts as they discuss challenges and opportunities of the super-app model as part of the digital transformation of the telco. \n \n 
URL:https://novasbe-library.azurewebsites.net/event/globaldata-telco-towards-the-super-app/
LOCATION:Online
CATEGORIES:Webinars
END:VEVENT
BEGIN:VEVENT
DTSTART;TZID=UTC:20250219T150000
DTEND;TZID=UTC:20250219T160000
DTSTAMP:20260425T164057
CREATED:20250127T184959Z
LAST-MODIFIED:20250127T184959Z
UID:12857-1739977200-1739980800@novasbe-library.azurewebsites.net
SUMMARY:GlobalData: Top Trends in Non-alcoholic Beverages 2025
DESCRIPTION:Join GlobalData for a session on the top consumer trends influencing the non-alcoholic beverages sector in 2025. GlobalData will assess which consumer motivations will drive purchase and consumption behavior in the coming year\, as well as identify the key opportunities for brands and manufacturers in these categories. \n 
URL:https://novasbe-library.azurewebsites.net/event/globaldata-top-trends-in-non-alcoholic-beverages-2025/
LOCATION:Online
CATEGORIES:Webinars
END:VEVENT
BEGIN:VEVENT
DTSTART;TZID=UTC:20250226T133000
DTEND;TZID=UTC:20250226T143000
DTSTAMP:20260425T164057
CREATED:20250127T185239Z
LAST-MODIFIED:20250303T104913Z
UID:12860-1740576600-1740580200@novasbe-library.azurewebsites.net
SUMMARY:GlobalData: Global Hiring Activity - Signals & Trends - Q4 2024
DESCRIPTION:Join GlobalData’s team for a deep dive into global hiring trends derived from GlobalData’s Job Analytics platform. Identify and track the companies that are currently hiring! \n 
URL:https://novasbe-library.azurewebsites.net/event/globaldata-global-hiring-activity-signals-trends-q4-2024/
LOCATION:Online
CATEGORIES:Webinars
END:VEVENT
END:VCALENDAR